BEGIN:VCALENDAR
VERSION:2.0
PRODID:-//pretix//KITA_HUB_Veranstaltungen//
BEGIN:VTIMEZONE
TZID:Europe/Berlin
BEGIN:STANDARD
DTSTART:20001029T040000
RRULE:FREQ=YEARLY;BYDAY=-1SU;BYMONTH=10
TZNAME:CET
TZOFFSETFROM:+0200
TZOFFSETTO:+0100
END:STANDARD
BEGIN:DAYLIGHT
DTSTART:20000326T030000
RRULE:FREQ=YEARLY;BYDAY=-1SU;BYMONTH=3
TZNAME:CEST
TZOFFSETFROM:+0100
TZOFFSETTO:+0200
END:DAYLIGHT
END:VTIMEZONE
BEGIN:VEVENT
UID:pretix-WUE-WUE2505-0@www.veranstaltungen.kita.bayern
DTSTART;TZID=Europe/Berlin:20250605T150000
DTEND;TZID=Europe/Berlin:20250605T180000
DESCRIPTION:Tickets: https://www.veranstaltungen.kita.bayern/WUE/WUE2505/\n
 Veranstalter: kita\\.digital + Sprache Würzburg
DTSTAMP:20260421T080902Z
LOCATION:Stadtbücherei Würzburg\, LEVEL3/3. OG\, Marktplatz\, 97070 Würz
 burg
SUMMARY:Medienkompetenz und Medienbildung in Kita und Familie. Kleine Übun
 g im Alltag\, große Wirkung im Leben
END:VEVENT
END:VCALENDAR
