BEGIN:VCALENDAR
VERSION:2.0
PRODID:-//pretix//KITA_HUB_Veranstaltungen//
BEGIN:VTIMEZONE
TZID:Europe/Berlin
BEGIN:STANDARD
DTSTART:20001029T040000
RRULE:FREQ=YEARLY;BYDAY=-1SU;BYMONTH=10
TZNAME:CET
TZOFFSETFROM:+0200
TZOFFSETTO:+0100
END:STANDARD
BEGIN:DAYLIGHT
DTSTART:20000326T030000
RRULE:FREQ=YEARLY;BYDAY=-1SU;BYMONTH=3
TZNAME:CEST
TZOFFSETFROM:+0100
TZOFFSETTO:+0200
END:DAYLIGHT
END:VTIMEZONE
BEGIN:VEVENT
UID:pretix-PW-5302.2001.0145-pw-24014-0@www.veranstaltungen.kita.bayern
DTSTART;TZID=Europe/Berlin:20240418T100000
DTEND;TZID=Europe/Berlin:20240418T160000
DESCRIPTION:Tickets: https://www.veranstaltungen.kita.bayern/PW/5302.2001.0
 145-pw-24014/\nVeranstalter: PIXELWERKSTATT
DTSTAMP:20260422T105602Z
LOCATION:PIXELWERKSTATT\, Mildred-Scheel-Straße 4\, 92224 Amberg
SUMMARY:Fachtag Forschen mit Medien
END:VEVENT
END:VCALENDAR
